BEGIN:VCALENDAR
VERSION:2.0
PRODID:-//Contratero//ES
CALSCALE:GREGORIAN
METHOD:PUBLISH
BEGIN:VEVENT
UID:UBU/2020/0028@contratero.es
DTSTAMP:20260423T041643Z
DTSTART:20201218T235959
DTEND:20201219T005959
SUMMARY:Cierre: Desarrollo y puesta en marcha de tienda online de 
DESCRIPTION:Desarrollo y puesta en marcha de tienda online de la Universidad de Burgos.\\n\\nOrganismo: Rectorado de la Universidad de Burgos\\n\\nVer en Contratero: https://contratero.es/contracts/UBU/2020/0028
URL:https://contratero.es/contracts/UBU/2020/0028
STATUS:CONFIRMED
BEGIN:VALARM
TRIGGER:-P1D
ACTION:DISPLAY
DESCRIPTION:Recordatorio: Desarrollo y puesta en marcha 
END:VALARM
END:VEVENT
END:VCALENDAR