BEGIN:VCALENDAR
VERSION:2.0
PRODID:-//Contratero//ES
CALSCALE:GREGORIAN
METHOD:PUBLISH
BEGIN:VEVENT
UID:UBU/2021/0015@contratero.es
DTSTAMP:20260423T045558Z
DTSTART:20210312T235959
DTEND:20210313T005959
SUMMARY:Cierre: Servicio de soporte y mantenimiento de la aplicaci
DESCRIPTION:Servicio de soporte y mantenimiento de la aplicación de control de presencia de la Universidad de Burgos\\n\\nOrganismo: Rectorado de la Universidad de Burgos\\n\\nVer en Contratero: https://contratero.es/contracts/UBU/2021/0015
URL:https://contratero.es/contracts/UBU/2021/0015
STATUS:CONFIRMED
BEGIN:VALARM
TRIGGER:-P1D
ACTION:DISPLAY
DESCRIPTION:Recordatorio: Servicio de soporte y mantenim
END:VALARM
END:VEVENT
END:VCALENDAR