BEGIN:VCALENDAR
VERSION:2.0
PRODID:-//Contratero//ES
CALSCALE:GREGORIAN
METHOD:PUBLISH
BEGIN:VEVENT
UID:UBU/2024/0011@contratero.es
DTSTAMP:20260424T101103Z
DTSTART:20240418T235959
DTEND:20240419T005959
SUMMARY:Cierre: Suministro de actualización del software de congel
DESCRIPTION:Suministro de actualización del software de congelación de equipos de la Universidad de Burgos por un periodo de tres años\\n\\nOrganismo: Rectorado de la Universidad de Burgos\\n\\nVer en Contratero: https://contratero.es/contracts/UBU/2024/0011
URL:https://contratero.es/contracts/UBU/2024/0011
STATUS:CONFIRMED
BEGIN:VALARM
TRIGGER:-P1D
ACTION:DISPLAY
DESCRIPTION:Recordatorio: Suministro de actualización de
END:VALARM
END:VEVENT
END:VCALENDAR