BEGIN:VCALENDAR
VERSION:2.0
PRODID:-//Contratero//ES
CALSCALE:GREGORIAN
METHOD:PUBLISH
BEGIN:VEVENT
UID:UGR/2021/0093@contratero.es
DTSTAMP:20260420T064246Z
DTSTART:20211007T235959
DTEND:20211008T005959
SUMMARY:Cierre: Mantenimiento de página web y redes sociales de Fa
DESCRIPTION:Mantenimiento de página web y redes sociales de Facultad de Ciencias de la Universidad de Granada\\n\\nOrganismo: Rectorado de la Universidad de Granada\\n\\nVer en Contratero: https://contratero.es/contracts/UGR/2021/0093
URL:https://contratero.es/contracts/UGR/2021/0093
STATUS:CONFIRMED
BEGIN:VALARM
TRIGGER:-P1D
ACTION:DISPLAY
DESCRIPTION:Recordatorio: Mantenimiento de página web y 
END:VALARM
END:VEVENT
END:VCALENDAR