BEGIN:VCALENDAR
VERSION:2.0
PRODID:-//Contratero//ES
CALSCALE:GREGORIAN
METHOD:PUBLISH
BEGIN:VEVENT
UID:UGR/2023/0038@contratero.es
DTSTAMP:20260423T020016Z
DTSTART:20230818T235959
DTEND:20230819T005959
SUMMARY:Cierre: Suministro de licencias google workspace for educa
DESCRIPTION:Suministro de licencias google workspace for education plus.\\n\\nOrganismo: Rectorado de la Universidad de Granada\\n\\nVer en Contratero: https://contratero.es/contracts/UGR/2023/0038
URL:https://contratero.es/contracts/UGR/2023/0038
STATUS:CONFIRMED
BEGIN:VALARM
TRIGGER:-P1D
ACTION:DISPLAY
DESCRIPTION:Recordatorio: Suministro de licencias google
END:VALARM
END:VEVENT
END:VCALENDAR