BEGIN:VCALENDAR
VERSION:2.0
PRODID:-//Contratero//ES
CALSCALE:GREGORIAN
METHOD:PUBLISH
BEGIN:VEVENT
UID:UGR/2024/0041@contratero.es
DTSTAMP:20260422T025633Z
DTSTART:20240911T235959
DTEND:20240912T005959
SUMMARY:Cierre: Adquisición de licencias de uso de productos Micro
DESCRIPTION:Adquisición de licencias de uso de productos Microsoft para el personal de la Universidad de Granada\\n\\nOrganismo: Rectorado de la Universidad de Granada\\n\\nVer en Contratero: https://contratero.es/contracts/UGR/2024/0041
URL:https://contratero.es/contracts/UGR/2024/0041
STATUS:CONFIRMED
BEGIN:VALARM
TRIGGER:-P1D
ACTION:DISPLAY
DESCRIPTION:Recordatorio: Adquisición de licencias de us
END:VALARM
END:VEVENT
END:VCALENDAR