BEGIN:VCALENDAR
VERSION:2.0
PRODID:-//Contratero//ES
CALSCALE:GREGORIAN
METHOD:PUBLISH
BEGIN:VEVENT
UID:UGR/2025/0098@contratero.es
DTSTAMP:20260420T140742Z
DTSTART:20251009T235959
DTEND:20251010T005959
SUMMARY:Cierre: Mantenimiento del SAI del edificio y del SAI de la
DESCRIPTION:Mantenimiento del SAI del edificio y del SAI de la sala de Cluster del CITIC-UGR.\\n\\nOrganismo: Rectorado de la Universidad de Granada\\n\\nVer en Contratero: https://contratero.es/contracts/UGR/2025/0098
URL:https://contratero.es/contracts/UGR/2025/0098
STATUS:CONFIRMED
BEGIN:VALARM
TRIGGER:-P1D
ACTION:DISPLAY
DESCRIPTION:Recordatorio: Mantenimiento del SAI del edif
END:VALARM
END:VEVENT
END:VCALENDAR