BEGIN:VCALENDAR
VERSION:2.0
PRODID:-//Contratero//ES
CALSCALE:GREGORIAN
METHOD:PUBLISH
BEGIN:VEVENT
UID:UGR/2025/0119@contratero.es
DTSTAMP:20260424T101056Z
DTSTART:20251125T235959
DTEND:20251126T005959
SUMMARY:Cierre: Servicio de emisión de la tarjeta universitaria in
DESCRIPTION:Servicio de emisión de la tarjeta universitaria inteligente en modalidad física.\\n\\nOrganismo: Rectorado de la Universidad de Granada\\n\\nVer en Contratero: https://contratero.es/contracts/UGR/2025/0119
URL:https://contratero.es/contracts/UGR/2025/0119
STATUS:CONFIRMED
BEGIN:VALARM
TRIGGER:-P1D
ACTION:DISPLAY
DESCRIPTION:Recordatorio: Servicio de emisión de la tarj
END:VALARM
END:VEVENT
END:VCALENDAR