BEGIN:VCALENDAR
VERSION:2.0
PRODID:-//Contratero//ES
CALSCALE:GREGORIAN
METHOD:PUBLISH
BEGIN:VEVENT
UID:VGO-57/2024@contratero.es
DTSTAMP:20260419T164405Z
DTSTART:20241001T235959
DTEND:20241002T005959
SUMMARY:Cierre: Mantenimiento Del Sistema De Supervisión Y Control
DESCRIPTION:Mantenimiento Del Sistema De Supervisión Y Control Individualizado De Ayudas Visuales Aeropuerto De Vigo\\n\\nOrganismo: Aena. Dirección del Aeropuerto de Vigo\\n\\nVer en Contratero: https://contratero.es/contracts/VGO-57/2024
URL:https://contratero.es/contracts/VGO-57/2024
STATUS:CONFIRMED
BEGIN:VALARM
TRIGGER:-P1D
ACTION:DISPLAY
DESCRIPTION:Recordatorio: Mantenimiento Del Sistema De S
END:VALARM
END:VEVENT
END:VCALENDAR