BEGIN:VCALENDAR
VERSION:2.0
PRODID:-//Contratero//ES
CALSCALE:GREGORIAN
METHOD:PUBLISH
BEGIN:VEVENT
UID:VI/25/03-SU@contratero.es
DTSTAMP:20260422T001234Z
DTSTART:20250515T235959
DTEND:20250516T005959
SUMMARY:Cierre: Adquisición adquisición de licencias de virtualiza
DESCRIPTION:Adquisición adquisición de licencias de virtualización VMware vSphere Standard 8\\n\\nOrganismo: Consejero Delegado de Viviendas del Principado de Asturias S.A.\\n\\nVer en Contratero: https://contratero.es/contracts/VI/25/03-SU
URL:https://contratero.es/contracts/VI/25/03-SU
STATUS:CONFIRMED
BEGIN:VALARM
TRIGGER:-P1D
ACTION:DISPLAY
DESCRIPTION:Recordatorio: Adquisición adquisición de lic
END:VALARM
END:VEVENT
END:VCALENDAR