BEGIN:VCALENDAR
VERSION:2.0
PRODID:-//Contratero//ES
CALSCALE:GREGORIAN
METHOD:PUBLISH
BEGIN:VEVENT
UID:VI/25/07-S@contratero.es
DTSTAMP:20260420T030526Z
DTSTART:20250902T235959
DTEND:20250903T005959
SUMMARY:Cierre: Desarrollo del portal web para el programa autonóm
DESCRIPTION:Desarrollo del portal web para el programa autonómico ALQUILAMOSTE su mantenimiento y evolución para Viviendas del Principado de Asturias.\\n\\nOrganismo: Consejero Delegado de Viviendas del Principado de Asturias S.A.\\n\\nVer en Contratero: https://contratero.es/contracts/VI/25/07-S
URL:https://contratero.es/contracts/VI/25/07-S
STATUS:CONFIRMED
BEGIN:VALARM
TRIGGER:-P1D
ACTION:DISPLAY
DESCRIPTION:Recordatorio: Desarrollo del portal web para
END:VALARM
END:VEVENT
END:VCALENDAR