BEGIN:VCALENDAR
VERSION:2.0
PRODID:-//Contratero//ES
CALSCALE:GREGORIAN
METHOD:PUBLISH
BEGIN:VEVENT
UID:VLC-23/2024@contratero.es
DTSTAMP:20260420T151330Z
DTSTART:20240320T235959
DTEND:20240321T005959
SUMMARY:Cierre: Mantenimiento Software Sistema Xovis
DESCRIPTION:Mantenimiento Software Sistema Xovis\\n\\nOrganismo: Aena. Dirección del Aeropuerto de Valencia\\n\\nVer en Contratero: https://contratero.es/contracts/VLC-23/2024
URL:https://contratero.es/contracts/VLC-23/2024
STATUS:CONFIRMED
BEGIN:VALARM
TRIGGER:-P1D
ACTION:DISPLAY
DESCRIPTION:Recordatorio: Mantenimiento Software Sistema
END:VALARM
END:VEVENT
END:VCALENDAR