BEGIN:VCALENDAR
VERSION:2.0
PRODID:-//Contratero//ES
CALSCALE:GREGORIAN
METHOD:PUBLISH
BEGIN:VEVENT
UID:W09ASI2005@contratero.es
DTSTAMP:20260421T211536Z
DTSTART:20230512T235959
DTEND:20230513T005959
SUMMARY:Cierre: Servicio de apoyo técnico en la gestión de los pro
DESCRIPTION:Servicio de apoyo técnico en la gestión de los procedimientos de escolarización\\n\\nOrganismo: Consejería de Educación\, Formación Profesional y Turismo del Gobierno de Cantabria\\n\\nVer en Contratero: https://contratero.es/contracts/W09ASI2005
URL:https://contratero.es/contracts/W09ASI2005
STATUS:CONFIRMED
BEGIN:VALARM
TRIGGER:-P1D
ACTION:DISPLAY
DESCRIPTION:Recordatorio: Servicio de apoyo técnico en l
END:VALARM
END:VEVENT
END:VCALENDAR