BEGIN:VCALENDAR
VERSION:2.0
PRODID:-//Contratero//ES
CALSCALE:GREGORIAN
METHOD:PUBLISH
BEGIN:VEVENT
UID:X240027DPBAE@contratero.es
DTSTAMP:20260422T012731Z
DTSTART:20240905T235959
DTEND:20240906T005959
SUMMARY:Cierre: Contratación renovación de la suscripción durante 
DESCRIPTION:Contratación renovación de la suscripción durante dos años de las licencias de software actualmente en operación para análisis en fuentes abiertas para Unidades de la Dirección General de la Policía\, ...\\n\\nOrganismo: Subdirección General de Planificacion y Gestion de Infraestructuras y Medios para la Seguridad\\n\\nVer en Contratero: https://contratero.es/contracts/X240027DPBAE
URL:https://contratero.es/contracts/X240027DPBAE
STATUS:CONFIRMED
BEGIN:VALARM
TRIGGER:-P1D
ACTION:DISPLAY
DESCRIPTION:Recordatorio: Contratación renovación de la 
END:VALARM
END:VEVENT
END:VCALENDAR