BEGIN:VCALENDAR
VERSION:2.0
PRODID:-//Contratero//ES
CALSCALE:GREGORIAN
METHOD:PUBLISH
BEGIN:VEVENT
UID:X240028DPBAE@contratero.es
DTSTAMP:20260422T061445Z
DTSTART:20240725T235959
DTEND:20240726T005959
SUMMARY:Cierre: Contratación de la suscripción de licencias de sof
DESCRIPTION:Contratación de la suscripción de licencias de software para análisis en fuentes abiertas (TadaWeb o equivalente)\, para Unidades de la Dirección General de la Policía.\\n\\nOrganismo: Subdirección General de Planificacion y Gestion de Infraestructuras y Medios para la Seguridad\\n\\nVer en Contratero: https://contratero.es/contracts/X240028DPBAE
URL:https://contratero.es/contracts/X240028DPBAE
STATUS:CONFIRMED
BEGIN:VALARM
TRIGGER:-P1D
ACTION:DISPLAY
DESCRIPTION:Recordatorio: Contratación de la suscripción
END:VALARM
END:VEVENT
END:VCALENDAR