BEGIN:VCALENDAR
VERSION:2.0
PRODID:-//Contratero//ES
CALSCALE:GREGORIAN
METHOD:PUBLISH
BEGIN:VEVENT
UID:X240029DPBAE@contratero.es
DTSTAMP:20260422T061652Z
DTSTART:20240715T235959
DTEND:20240716T005959
SUMMARY:Cierre: Contratación de la renovación de una licencia del 
DESCRIPTION:Contratación de la renovación de una licencia del producto para análisis en la "dark web"\, y suscripción de una licencia de idéntico producto para Unidades de la Dirección\nGeneral de la Policía.\\n\\nOrganismo: Subdirección General de Planificacion y Gestion de Infraestructuras y Medios para la Seguridad\\n\\nVer en Contratero: https://contratero.es/contracts/X240029DPBAE
URL:https://contratero.es/contracts/X240029DPBAE
STATUS:CONFIRMED
BEGIN:VALARM
TRIGGER:-P1D
ACTION:DISPLAY
DESCRIPTION:Recordatorio: Contratación de la renovación 
END:VALARM
END:VEVENT
END:VCALENDAR