BEGIN:VCALENDAR
VERSION:2.0
PRODID:-//Contratero//ES
CALSCALE:GREGORIAN
METHOD:PUBLISH
BEGIN:VEVENT
UID:X240328SSOAE@contratero.es
DTSTAMP:20260422T011838Z
DTSTART:20250211T235959
DTEND:20250212T005959
SUMMARY:Cierre: Servicios de apoyo técnico para el soporte de sist
DESCRIPTION:Servicios de apoyo técnico para el soporte de sistemas de información en producción de la Subdirección General de Sistemas de Información y Comunicaciones para la Seguridad.\\n\\nOrganismo: Subdirección General de Planificacion y Gestion de Infraestructuras y Medios para la Seguridad\\n\\nVer en Contratero: https://contratero.es/contracts/X240328SSOAE
URL:https://contratero.es/contracts/X240328SSOAE
STATUS:CONFIRMED
BEGIN:VALARM
TRIGGER:-P1D
ACTION:DISPLAY
DESCRIPTION:Recordatorio: Servicios de apoyo técnico par
END:VALARM
END:VEVENT
END:VCALENDAR