BEGIN:VCALENDAR
VERSION:2.0
PRODID:-//Contratero//ES
CALSCALE:GREGORIAN
METHOD:PUBLISH
BEGIN:VEVENT
UID:X250321SHSDE@contratero.es
DTSTAMP:20260421T054023Z
DTSTART:20251002T235959
DTEND:20251003T005959
SUMMARY:Cierre: Desarrollo de una herramienta de intercambio segur
DESCRIPTION:Desarrollo de una herramienta de intercambio seguro de información entre infraestructuras críticas para el Centro Nacional de Protección de Infraestructuras Críticas.\\n\\nOrganismo: Subdirección General de Planificacion y Gestion de Infraestructuras y Medios para la Seguridad\\n\\nVer en Contratero: https://contratero.es/contracts/X250321SHSDE
URL:https://contratero.es/contracts/X250321SHSDE
STATUS:CONFIRMED
BEGIN:VALARM
TRIGGER:-P1D
ACTION:DISPLAY
DESCRIPTION:Recordatorio: Desarrollo de una herramienta 
END:VALARM
END:VEVENT
END:VCALENDAR