BEGIN:VCALENDAR
VERSION:2.0
PRODID:-//Contratero//ES
CALSCALE:GREGORIAN
METHOD:PUBLISH
BEGIN:VEVENT
UID:XP0982/2022@contratero.es
DTSTAMP:20260422T185031Z
DTSTART:20230630T235959
DTEND:20230701T005959
SUMMARY:Cierre: Servicio de mantenimiento y mejora de gestor docum
DESCRIPTION:Servicio de mantenimiento y mejora de gestor documental y de expedientes de la consejería de medio ambiente\\n\\nOrganismo: Consejería de Área de Medio Ambiente\, Clima\, Energía y Conocimiento del Cabildo de Gran Canaria\\n\\nVer en Contratero: https://contratero.es/contracts/XP0982/2022
URL:https://contratero.es/contracts/XP0982/2022
STATUS:CONFIRMED
BEGIN:VALARM
TRIGGER:-P1D
ACTION:DISPLAY
DESCRIPTION:Recordatorio: Servicio de mantenimiento y me
END:VALARM
END:VEVENT
END:VCALENDAR