BEGIN:VCALENDAR
VERSION:2.0
PRODID:-//Contratero//ES
CALSCALE:GREGORIAN
METHOD:PUBLISH
BEGIN:VEVENT
UID:XP0999/2022@contratero.es
DTSTAMP:20260422T080641Z
DTSTART:20231211T235959
DTEND:20231212T005959
SUMMARY:Cierre: Servicio de atención y soporte técnico informático
DESCRIPTION:Servicio de atención y soporte técnico informático a los usuarios corporativos del Cabildo de Gran Canaria.\\n\\nOrganismo: Consejería de Gobierno de Presidencia y Movilidad Sostenible del Cabildo de Gran Canaria\\n\\nVer en Contratero: https://contratero.es/contracts/XP0999/2022
URL:https://contratero.es/contracts/XP0999/2022
STATUS:CONFIRMED
BEGIN:VALARM
TRIGGER:-P1D
ACTION:DISPLAY
DESCRIPTION:Recordatorio: Servicio de atención y soporte
END:VALARM
END:VEVENT
END:VCALENDAR