BEGIN:VCALENDAR
VERSION:2.0
PRODID:-//Contratero//ES
CALSCALE:GREGORIAN
METHOD:PUBLISH
BEGIN:VEVENT
UID:XP1285/2024@contratero.es
DTSTAMP:20260423T063140Z
DTSTART:20250328T235959
DTEND:20250329T005959
SUMMARY:Cierre: Dotar de las herramientas y servicios necesarios p
DESCRIPTION:Dotar de las herramientas y servicios necesarios para la modernización de los sistemas de gestión del padrón de los municipios de menos de 20.000 habitantes de la isla de Gran Canaria y aquellos de má...\\n\\nOrganismo: Consejería de Gobierno de Presidencia y Movilidad Sostenible del Cabildo de Gran Canaria\\n\\nVer en Contratero: https://contratero.es/contracts/XP1285/2024
URL:https://contratero.es/contracts/XP1285/2024
STATUS:CONFIRMED
BEGIN:VALARM
TRIGGER:-P1D
ACTION:DISPLAY
DESCRIPTION:Recordatorio: Dotar de las herramientas y se
END:VALARM
END:VEVENT
END:VCALENDAR