BEGIN:VCALENDAR
VERSION:2.0
PRODID:-//Contratero//ES
CALSCALE:GREGORIAN
METHOD:PUBLISH
BEGIN:VEVENT
UID:XPS0026/2019@contratero.es
DTSTAMP:20260423T185101Z
DTSTART:20190617T235959
DTEND:20190618T005959
SUMMARY:Cierre: Servicio de mantenimiento del sistema integrado de
DESCRIPTION:Servicio de mantenimiento del sistema integrado de gestión Innopac Millenium para la biblioteca de la Universidad de Burgos\\n\\nOrganismo: Rectorado de la Universidad de Burgos\\n\\nVer en Contratero: https://contratero.es/contracts/XPS0026/2019
URL:https://contratero.es/contracts/XPS0026/2019
STATUS:CONFIRMED
BEGIN:VALARM
TRIGGER:-P1D
ACTION:DISPLAY
DESCRIPTION:Recordatorio: Servicio de mantenimiento del 
END:VALARM
END:VEVENT
END:VCALENDAR