BEGIN:VCALENDAR
VERSION:2.0
PRODID:-//Contratero//ES
CALSCALE:GREGORIAN
METHOD:PUBLISH
BEGIN:VEVENT
UID:XPS0044/2019@contratero.es
DTSTAMP:20260421T141001Z
DTSTART:20200109T235959
DTEND:20200110T005959
SUMMARY:Cierre: Servicio de diseño para la creación y mantenimient
DESCRIPTION:Servicio de diseño para la creación y mantenimiento de la Web en español e inglés y redes sociales del proyecto SMARTART (referencia 2019-1-ES01-KA204-065615)\, coordinado por la Universidad de Burgos.\\n\\nOrganismo: Rectorado de la Universidad de Burgos\\n\\nVer en Contratero: https://contratero.es/contracts/XPS0044/2019
URL:https://contratero.es/contracts/XPS0044/2019
STATUS:CONFIRMED
BEGIN:VALARM
TRIGGER:-P1D
ACTION:DISPLAY
DESCRIPTION:Recordatorio: Servicio de diseño para la cre
END:VALARM
END:VEVENT
END:VCALENDAR