BEGIN:VCALENDAR
VERSION:2.0
PRODID:-//Contratero//ES
CALSCALE:GREGORIAN
METHOD:PUBLISH
BEGIN:VEVENT
UID:XPS0162/2019@contratero.es
DTSTAMP:20260423T184953Z
DTSTART:20190709T235959
DTEND:20190710T005959
SUMMARY:Cierre: Contratación de los servicios de mantenimento y as
DESCRIPTION:Contratación de los servicios de mantenimento y asistencia técnica de la aplicación de obras y certificaciones\\n\\nOrganismo: Presidencia de la Diputación Provincial de Cáceres\\n\\nVer en Contratero: https://contratero.es/contracts/XPS0162/2019
URL:https://contratero.es/contracts/XPS0162/2019
STATUS:CONFIRMED
BEGIN:VALARM
TRIGGER:-P1D
ACTION:DISPLAY
DESCRIPTION:Recordatorio: Contratación de los servicios 
END:VALARM
END:VEVENT
END:VCALENDAR