BEGIN:VCALENDAR
VERSION:2.0
PRODID:-//Contratero//ES
CALSCALE:GREGORIAN
METHOD:PUBLISH
BEGIN:VEVENT
UID:XPS0780/2019@contratero.es
DTSTAMP:20260423T150609Z
DTSTART:20191218T235959
DTEND:20191219T005959
SUMMARY:Cierre: Servicios de mantenimiento y  asistencia técnica d
DESCRIPTION:Servicios de mantenimiento y  asistencia técnica de las aplicaciones CODEX y CentrosNET\, utilizadas en la gestión del Conservatorio Profesional de Música “García Matos”\, de Plasencia y el Conservatori...\\n\\nOrganismo: Presidencia de la Diputación Provincial de Cáceres\\n\\nVer en Contratero: https://contratero.es/contracts/XPS0780/2019
URL:https://contratero.es/contracts/XPS0780/2019
STATUS:CONFIRMED
BEGIN:VALARM
TRIGGER:-P1D
ACTION:DISPLAY
DESCRIPTION:Recordatorio: Servicios de mantenimiento y  
END:VALARM
END:VEVENT
END:VCALENDAR