BEGIN:VCALENDAR
VERSION:2.0
PRODID:-//Contratero//ES
CALSCALE:GREGORIAN
METHOD:PUBLISH
BEGIN:VEVENT
UID:Z21IN011/M20@contratero.es
DTSTAMP:20260424T201626Z
DTSTART:20201209T235959
DTEND:20201210T005959
SUMMARY:Cierre: Adquisición de livescan para sistema automático de
DESCRIPTION:Adquisición de livescan para sistema automático de identificación dactilar (SAID) en entorno de frontera para la DGP.\\n\\nOrganismo: División Económica y Técnica (Cuerpo Nacional de Policía)\\n\\nVer en Contratero: https://contratero.es/contracts/Z21IN011/M20
URL:https://contratero.es/contracts/Z21IN011/M20
STATUS:CONFIRMED
BEGIN:VALARM
TRIGGER:-P1D
ACTION:DISPLAY
DESCRIPTION:Recordatorio: Adquisición de livescan para s
END:VALARM
END:VEVENT
END:VCALENDAR