BEGIN:VCALENDAR
VERSION:2.0
PRODID:-//Contratero//ES
CALSCALE:GREGORIAN
METHOD:PUBLISH
BEGIN:VEVENT
UID:Z24DT003/M2F@contratero.es
DTSTAMP:20260422T062147Z
DTSTART:20240902T235959
DTEND:20240903T005959
SUMMARY:Cierre: Suscripción de licencias de software de investigac
DESCRIPTION:Suscripción de licencias de software de investigación e inteligencia de la tecnología voyagerlabs\, para la DGP.\\n\\nOrganismo: División Económica y Técnica (Cuerpo Nacional de Policía)\\n\\nVer en Contratero: https://contratero.es/contracts/Z24DT003/M2F
URL:https://contratero.es/contracts/Z24DT003/M2F
STATUS:CONFIRMED
BEGIN:VALARM
TRIGGER:-P1D
ACTION:DISPLAY
DESCRIPTION:Recordatorio: Suscripción de licencias de so
END:VALARM
END:VEVENT
END:VCALENDAR