BEGIN:VCALENDAR
VERSION:2.0
PRODID:-//Contratero//ES
CALSCALE:GREGORIAN
METHOD:PUBLISH
BEGIN:VEVENT
UID:Z24IN009/D40@contratero.es
DTSTAMP:20260421T040027Z
DTSTART:20240116T235959
DTEND:20240117T005959
SUMMARY:Cierre: Asistencia técnica en tecnología PPM de OpenText 2
DESCRIPTION:Asistencia técnica en tecnología PPM de OpenText 2024-2026 para a D.G.P.\\n\\nOrganismo: División Económica y Técnica (Cuerpo Nacional de Policía)\\n\\nVer en Contratero: https://contratero.es/contracts/Z24IN009/D40
URL:https://contratero.es/contracts/Z24IN009/D40
STATUS:CONFIRMED
BEGIN:VALARM
TRIGGER:-P1D
ACTION:DISPLAY
DESCRIPTION:Recordatorio: Asistencia técnica en tecnolog
END:VALARM
END:VEVENT
END:VCALENDAR