BEGIN:VCALENDAR
VERSION:2.0
PRODID:-//Contratero//ES
CALSCALE:GREGORIAN
METHOD:PUBLISH
BEGIN:VEVENT
UID:Z25IN014/D4F@contratero.es
DTSTAMP:20260423T113514Z
DTSTART:20250128T235959
DTEND:20250129T005959
SUMMARY:Cierre: Contratación de asistencia técnica en implementaci
DESCRIPTION:Contratación de asistencia técnica en implementación de procesos de calidad en sistemas informáticos 2025-2027\, para el Área de Informática.\\n\\nOrganismo: División Económica y Técnica (Cuerpo Nacional de Policía)\\n\\nVer en Contratero: https://contratero.es/contracts/Z25IN014/D4F
URL:https://contratero.es/contracts/Z25IN014/D4F
STATUS:CONFIRMED
BEGIN:VALARM
TRIGGER:-P1D
ACTION:DISPLAY
DESCRIPTION:Recordatorio: Contratación de asistencia téc
END:VALARM
END:VEVENT
END:VCALENDAR