BEGIN:VCALENDAR
VERSION:2.0
PRODID:-//Contratero//ES
CALSCALE:GREGORIAN
METHOD:PUBLISH
BEGIN:VEVENT
UID:Z25IN051/M40@contratero.es
DTSTAMP:20260422T012925Z
DTSTART:20250903T235959
DTEND:20250904T005959
SUMMARY:Cierre: Mantenimiento de hardware de sistemas centrales en
DESCRIPTION:Mantenimiento de hardware de sistemas centrales en tecnología Dell 2025-2027.\\n\\nOrganismo: División Económica y Técnica (Cuerpo Nacional de Policía)\\n\\nVer en Contratero: https://contratero.es/contracts/Z25IN051/M40
URL:https://contratero.es/contracts/Z25IN051/M40
STATUS:CONFIRMED
BEGIN:VALARM
TRIGGER:-P1D
ACTION:DISPLAY
DESCRIPTION:Recordatorio: Mantenimiento de hardware de s
END:VALARM
END:VEVENT
END:VCALENDAR