BEGIN:VCALENDAR
VERSION:2.0
PRODID:-//Contratero//ES
CALSCALE:GREGORIAN
METHOD:PUBLISH
BEGIN:VEVENT
UID:Z26SE001/050@contratero.es
DTSTAMP:20260421T042116Z
DTSTART:20260128T235959
DTEND:20260129T005959
SUMMARY:Cierre: El objeto del contrato es el soporte\, mantenimient
DESCRIPTION:El objeto del contrato es el soporte\, mantenimiento y permanente actualización del sistema de localización integral actualmente en explotación en la Jefatura de Sistemas Especiales de Policía Nacional\\n\\nOrganismo: División Económica y Técnica (Cuerpo Nacional de Policía)\\n\\nVer en Contratero: https://contratero.es/contracts/Z26SE001/050
URL:https://contratero.es/contracts/Z26SE001/050
STATUS:CONFIRMED
BEGIN:VALARM
TRIGGER:-P1D
ACTION:DISPLAY
DESCRIPTION:Recordatorio: El objeto del contrato es el s
END:VALARM
END:VEVENT
END:VCALENDAR