BEGIN:VCALENDAR
VERSION:2.0
PRODID:-//Contratero//ES
CALSCALE:GREGORIAN
METHOD:PUBLISH
BEGIN:VEVENT
UID:c-102/21@contratero.es
DTSTAMP:20260423T152011Z
DTSTART:20220110T235959
DTEND:20220111T005959
SUMMARY:Cierre: servicios de mantenimiento nivel premium\, asistenc
DESCRIPTION:servicios de mantenimiento nivel premium\, asistencia técnica y almacenamiento en la nube de las aplicaciones informáticas de aytos soluciones informáticas\, s.l.u.\, de las cuales el ayuntamiento tiene\\n\\nOrganismo: Junta de Gobierno del Ayuntamiento de Almería\\n\\nVer en Contratero: https://contratero.es/contracts/c-102/21
URL:https://contratero.es/contracts/c-102/21
STATUS:CONFIRMED
BEGIN:VALARM
TRIGGER:-P1D
ACTION:DISPLAY
DESCRIPTION:Recordatorio: servicios de mantenimiento niv
END:VALARM
END:VEVENT
END:VCALENDAR