BEGIN:VCALENDAR
VERSION:2.0
PRODID:-//Contratero//ES
CALSCALE:GREGORIAN
METHOD:PUBLISH
BEGIN:VEVENT
UID:c-38/22@contratero.es
DTSTAMP:20260421T134630Z
DTSTART:20220510T235959
DTEND:20220511T005959
SUMMARY:Cierre: expediente prtrmu/21/00028: “contrato mixto de ser
DESCRIPTION:expediente prtrmu/21/00028: “contrato mixto de servicios\, suministros y obras relativo a actuaciones de mejora de la distribución urbana de mercancías en almería mediante el suministro\, instalación\, p\\n\\nOrganismo: Junta de Gobierno del Ayuntamiento de Almería\\n\\nVer en Contratero: https://contratero.es/contracts/c-38/22
URL:https://contratero.es/contracts/c-38/22
STATUS:CONFIRMED
BEGIN:VALARM
TRIGGER:-P1D
ACTION:DISPLAY
DESCRIPTION:Recordatorio: expediente prtrmu/21/00028: “c
END:VALARM
END:VEVENT
END:VCALENDAR