BEGIN:VCALENDAR
VERSION:2.0
PRODID:-//Contratero//ES
CALSCALE:GREGORIAN
METHOD:PUBLISH
BEGIN:VEVENT
UID:c-53/2019@contratero.es
DTSTAMP:20260423T224436Z
DTSTART:20190704T235959
DTEND:20190705T005959
SUMMARY:Cierre: mantenimiento\, actualización e incorporación de nu
DESCRIPTION:mantenimiento\, actualización e incorporación de nuevos módulos de la aplicación informática de gestión tributariay recaudación del órgano de gestión tributaria del ayuntamiento de almería\\n\\nOrganismo: Junta de Gobierno del Ayuntamiento de Almería\\n\\nVer en Contratero: https://contratero.es/contracts/c-53/2019
URL:https://contratero.es/contracts/c-53/2019
STATUS:CONFIRMED
BEGIN:VALARM
TRIGGER:-P1D
ACTION:DISPLAY
DESCRIPTION:Recordatorio: mantenimiento\, actualización e
END:VALARM
END:VEVENT
END:VCALENDAR