BEGIN:VCALENDAR
VERSION:2.0
PRODID:-//Contratero//ES
CALSCALE:GREGORIAN
METHOD:PUBLISH
BEGIN:VEVENT
UID:c-64/22@contratero.es
DTSTAMP:20260424T061347Z
DTSTART:20220825T235959
DTEND:20220826T005959
SUMMARY:Cierre: servicios de mantenimiento\, actualización\, incorpo
DESCRIPTION:servicios de mantenimiento\, actualización\, incorporación de nuevos módulos y gestión integral en "cloud" para dar soporte al sistema de información tributaria (sit) del ayuntamiento de almería.\\n\\nOrganismo: Junta de Gobierno del Ayuntamiento de Almería\\n\\nVer en Contratero: https://contratero.es/contracts/c-64/22
URL:https://contratero.es/contracts/c-64/22
STATUS:CONFIRMED
BEGIN:VALARM
TRIGGER:-P1D
ACTION:DISPLAY
DESCRIPTION:Recordatorio: servicios de mantenimiento\, ac
END:VALARM
END:VEVENT
END:VCALENDAR