BEGIN:VCALENDAR
VERSION:2.0
PRODID:-//Contratero//ES
CALSCALE:GREGORIAN
METHOD:PUBLISH
BEGIN:VEVENT
UID:cif/ca/049/2022@contratero.es
DTSTAMP:20260424T033602Z
DTSTART:20221212T235959
DTEND:20221213T005959
SUMMARY:Cierre: servicio de centro de proceso de datos y soporte t
DESCRIPTION:servicio de centro de proceso de datos y soporte técnico avanzado de los sistemas informáticos del ayuntamiento de langreo\\n\\nOrganismo: Alcaldía del Ayuntamiento de Langreo\\n\\nVer en Contratero: https://contratero.es/contracts/cif/ca/049/2022
URL:https://contratero.es/contracts/cif/ca/049/2022
STATUS:CONFIRMED
BEGIN:VALARM
TRIGGER:-P1D
ACTION:DISPLAY
DESCRIPTION:Recordatorio: servicio de centro de proceso 
END:VALARM
END:VEVENT
END:VCALENDAR