BEGIN:VCALENDAR
VERSION:2.0
PRODID:-//Contratero//ES
CALSCALE:GREGORIAN
METHOD:PUBLISH
BEGIN:VEVENT
UID:cv-inf-2019-11@contratero.es
DTSTAMP:20260420T023528Z
DTSTART:20200110T235959
DTEND:20200111T005959
SUMMARY:Cierre: servicios de delegado de protección de datos en la
DESCRIPTION:servicios de delegado de protección de datos en las corts valencianes\\n\\nOrganismo: Mesa de Les Corts Valencianes\\n\\nVer en Contratero: https://contratero.es/contracts/cv-inf-2019-11
URL:https://contratero.es/contracts/cv-inf-2019-11
STATUS:CONFIRMED
BEGIN:VALARM
TRIGGER:-P1D
ACTION:DISPLAY
DESCRIPTION:Recordatorio: servicios de delegado de prote
END:VALARM
END:VEVENT
END:VCALENDAR