BEGIN:VCALENDAR
VERSION:2.0
PRODID:-//Contratero//ES
CALSCALE:GREGORIAN
METHOD:PUBLISH
BEGIN:VEVENT
UID:cvgc.2020.05@contratero.es
DTSTAMP:20260424T221709Z
DTSTART:20210628T235959
DTEND:20210629T005959
SUMMARY:Cierre: servicio consistente en el mantenimiento de la pla
DESCRIPTION:servicio consistente en el mantenimiento de la plataforma de licitación electrónica del consorcio de viviendas de gran canaria\\n\\nOrganismo: Presidencia del Consorcio de Viviendas de Gran Canaria\\n\\nVer en Contratero: https://contratero.es/contracts/cvgc.2020.05
URL:https://contratero.es/contracts/cvgc.2020.05
STATUS:CONFIRMED
BEGIN:VALARM
TRIGGER:-P1D
ACTION:DISPLAY
DESCRIPTION:Recordatorio: servicio consistente en el man
END:VALARM
END:VEVENT
END:VCALENDAR