BEGIN:VCALENDAR
VERSION:2.0
PRODID:-//Contratero//ES
CALSCALE:GREGORIAN
METHOD:PUBLISH
BEGIN:VEVENT
UID:s-22070131@contratero.es
DTSTAMP:20260422T174443Z
DTSTART:20220913T235959
DTEND:20220914T005959
SUMMARY:Cierre: servicio de mantenimiento\, infraestructura y licen
DESCRIPTION:servicio de mantenimiento\, infraestructura y licencias del sistema sap.\\n\\nOrganismo: Presidencia Ejecutiva de la Agencia E.F.E. S.A.U.\, S.M.E.\\n\\nVer en Contratero: https://contratero.es/contracts/s-22070131
URL:https://contratero.es/contracts/s-22070131
STATUS:CONFIRMED
BEGIN:VALARM
TRIGGER:-P1D
ACTION:DISPLAY
DESCRIPTION:Recordatorio: servicio de mantenimiento\, inf
END:VALARM
END:VEVENT
END:VCALENDAR