BEGIN:VCALENDAR
VERSION:2.0
PRODID:-//Contratero//ES
CALSCALE:GREGORIAN
METHOD:PUBLISH
BEGIN:VEVENT
UID:serv/abr/2022000048@contratero.es
DTSTAMP:20260422T232059Z
DTSTART:20220707T235959
DTEND:20220708T005959
SUMMARY:Cierre: servicio de actualización y valoración del inventa
DESCRIPTION:servicio de actualización y valoración del inventario de bienes y derechos de la diputación provincial de ourense así como de volcado de los datos resultantes en la aplicación informática\\n\\nOrganismo: Presidencia de la Diputación Provincial de Ourense\\n\\nVer en Contratero: https://contratero.es/contracts/serv/abr/2022000048
URL:https://contratero.es/contracts/serv/abr/2022000048
STATUS:CONFIRMED
BEGIN:VALARM
TRIGGER:-P1D
ACTION:DISPLAY
DESCRIPTION:Recordatorio: servicio de actualización y va
END:VALARM
END:VEVENT
END:VCALENDAR